BEGIN:VCALENDAR
VERSION:2.0
PRODID:nkc_event TYPO3 Extension
METHOD:PUBLISH
BEGIN:VEVENT
UID:a2807fc3451de9bb1cf25d609398e18f
LOCATION:Familien-Bildungsstätte Bad Oldesloe
SUMMARY:Sixtyniner-Chor
DESCRIPTION:
CLASS:PUBLIC
DTSTART:20270401T150000Z
DTEND:20270401T173000Z
DTSTAMP:20260422T103619Z
END:VEVENT

END:VCALENDAR