BEGIN:VCALENDAR
VERSION:2.0
PRODID:nkc_event TYPO3 Extension
METHOD:PUBLISH
BEGIN:VEVENT
UID:44a2281a706bce20cd3753ec686bdfa7
LOCATION:Gemeindehaus II
SUMMARY:ABENTEUERLAND
DESCRIPTION:
CLASS:PUBLIC
DTSTART:20260508T133000Z
DTEND:20260508T143000Z
DTSTAMP:20260425T112040Z
END:VEVENT

END:VCALENDAR