BEGIN:VCALENDAR
VERSION:2.0
PRODID:nkc_event TYPO3 Extension
METHOD:PUBLISH
BEGIN:VEVENT
UID:72f104f19bcba6f0bcf60cca9b6604c7
LOCATION:Vor dem Pastorat in Kosel
SUMMARY:Schlager-Gottesdienst vor dem Pastorat mit Mai-Bock und Grillwürstchen\, Pastorin Susanna Kschamer
DESCRIPTION:
CLASS:PUBLIC
DTSTART:20260430T160000Z
DTEND:20260430T170000Z
DTSTAMP:20260419T162608Z
END:VEVENT

END:VCALENDAR