BEGIN:VCALENDAR
VERSION:2.0
PRODID:nkc_event TYPO3 Extension
METHOD:PUBLISH
BEGIN:VEVENT
UID:20cd7704b61ff45e40cb4498b480723d
LOCATION:Friedenskirche Trappenkamp
SUMMARY:Vorstellungsgodi der Konfirmanden. P´s U.Egener und C.- H. Linse und Diakon J. Kröning
DESCRIPTION:
CLASS:PUBLIC
DTSTART:20260503T080000Z
DTEND:20260503T090000Z
DTSTAMP:20260423T171533Z
END:VEVENT

END:VCALENDAR