BEGIN:VCALENDAR
VERSION:2.0
PRODID:nkc_event TYPO3 Extension
METHOD:PUBLISH
BEGIN:VEVENT
UID:498fa232746d6578dc407b5ee673adda
LOCATION:Dom zu Lübeck
SUMMARY:„Offener Kreis am DomDQUOTE
DESCRIPTION: Herzliche Einladung zu unserem „Offenen Kreis am Dom“. Unabhängig vom Gottesdienst und ohne feste thematische Ausrichtung möchten wir bei Kaffee\, Tee und Gebäck zusammenkommen – ganz entspannt und offen dafür\, was sich im Gespräch ergibt. Eine „Blaue Stunde“ ohne Erwartungen und Verpflichtungen. Wir treffen uns jeweils am letzten Donnerstag im Monat (außer in den Sommerferien) von 17":"00 bis 18":"00 Uhr im Südanbau des Doms. Der Zugang erfolgt über die Musterbahn. Der erste Termin ist am 30. April 2026. Kommen Sie gerne vorbei – wir freuen uns auf Sie! 
CLASS:PUBLIC
DTSTART:20260430T150000Z
DTEND:20260430T160000Z
DTSTAMP:20260424T203401Z
END:VEVENT

END:VCALENDAR