BEGIN:VCALENDAR
VERSION:2.0
PRODID:nkc_event TYPO3 Extension
METHOD:PUBLISH
BEGIN:VEVENT
UID:70df4fc3b990daae881f3f71f7bda4f2
LOCATION:St. Marien Sörup
SUMMARY:Choralblasen vom Kirchturm und DQUOTEMehrDQUOTE
DESCRIPTION:Jeden Sonnabend um 15 Uhr treffen wir uns am Kirchturm\, hören einen Choral\, Texte und DQUOTEMehrDQUOTE. Bei schlechtem Wetter nutzen wir den Kirchenraum. Herzliche Willkommen! Christiane Klang
CLASS:PUBLIC
DTSTART:20260502T130000Z
DTEND:20260502T140000Z
DTSTAMP:20260422T112309Z
END:VEVENT

END:VCALENDAR