BEGIN:VCALENDAR
VERSION:2.0
PRODID:nkc_event TYPO3 Extension
METHOD:PUBLISH
BEGIN:VEVENT
UID:53cb0c1caa73f693be305faaa19fb2ae
LOCATION:Hauptkirche St. Jacobi
SUMMARY:Arp-Schnitger-Orgelführung
DESCRIPTION:
CLASS:PUBLIC
DTSTART:20260723T100000Z
DTEND:20260723T110000Z
DTSTAMP:20260420T180851Z
END:VEVENT

END:VCALENDAR