BEGIN:VCALENDAR
VERSION:2.0
PRODID:nkc_event TYPO3 Extension
METHOD:PUBLISH
BEGIN:VEVENT
UID:b5c62a01de505a2105741c5f090678a8
LOCATION:Hl Dreieinigkeitskirche (St. Georgskirche)
SUMMARY:Kirchenöffnung zur Ausstellung This is me! - Queer und religiös?
DESCRIPTION:
CLASS:PUBLIC
DTSTART:20260606T100000Z
DTEND:20260606T120000Z
DTSTAMP:20260420T152611Z
END:VEVENT

END:VCALENDAR