BEGIN:VCALENDAR
VERSION:2.0
PRODID:nkc_event TYPO3 Extension
METHOD:PUBLISH
BEGIN:VEVENT
UID:2020df8431d598e8a2cf3f80ea86332d
LOCATION:Pastorat Aegidienstr. 75
SUMMARY:Gemeinsam Bibel lesen und verstehen
DESCRIPTION:Philippus zum Kämmerer aus Äthiopien":" DQUOTEVerstehst du auch\, was du da liest?DQUOTEEr aber sprach":" DQUOTEWie kann ich\, wenn mich nicht jemand anleitet?DQUOTE(Apostelgeschichte 8\, 30 f.)5. Kurs":" DQUOTETexte und Themen Ihrer Wahl!DQUOTE5 Abende 
CLASS:PUBLIC
DTSTART:20260603T160000Z
DTEND:20260603T170000Z
DTSTAMP:20260423T142655Z
END:VEVENT

END:VCALENDAR