BEGIN:VCALENDAR
VERSION:2.0
PRODID:nkc_event TYPO3 Extension
METHOD:PUBLISH
BEGIN:VEVENT
UID:f111c83e3c704b535f1bafeeddff64a4
LOCATION:Vicelin-Kirche St. Jakobi
SUMMARY:Konfirmations-Gottesdienst\, Pastorin Egener
DESCRIPTION:
CLASS:PUBLIC
DTSTART:20260531T080000Z
DTEND:20260531T090000Z
DTSTAMP:20260423T170758Z
END:VEVENT

END:VCALENDAR