BEGIN:VCALENDAR
VERSION:2.0
PRODID:nkc_event TYPO3 Extension
METHOD:PUBLISH
BEGIN:VEVENT
UID:dcb443596678f07a8d5e80083b1909e2
LOCATION:https://www.youtube.com/channel/UCBo-WkPXb_39N1EjFLh9n1A
SUMMARY:Gottesdienst\, in der Kirche und auf YouTube
DESCRIPTION:Alle sind herzlich eingeladen\, mit uns Gottesdienst zu feiernDie Predigt hält Pastor Dietmar Gördel im Crossover aus Hohenlockstedt
CLASS:PUBLIC
DTSTART:20260614T080000Z
DTEND:20260614T090000Z
DTSTAMP:20260425T210216Z
END:VEVENT

END:VCALENDAR