BEGIN:VCALENDAR
VERSION:2.0
PRODID:nkc_event TYPO3 Extension
METHOD:PUBLISH
BEGIN:VEVENT
UID:dabdf34a7e466fd61ec09ec01a06097e
LOCATION:Offene Kirche St. Nikolai in Kiel
SUMMARY:coffee to stay
DESCRIPTION:Hier gibt es Kaffee\, Tee\, Gebäck und halbe Brötchen mit Frischkäse nur zum Hier-Genießen - alles gratis (heißt":" Wer kann\, gibt etwas in die Spendendose\, wer gerade nichts übrig hat\, ist herzlich eingeladen. Gebäck und Brötchen spendet die Bäckerei Brotgarten - dafür herzlichen Dank!) und dazu Begegnungen und Gespräche mit Menschen von überall her":" von der Straße und vom Kreuzfahrtschiff\, vom Einkaufsbummel und von der Unterkunft für Menschen ohne Wohnung. Manche suchen Gesellschaft\, andere Ruhe\, die einen genießen die Kühle der Kirche und andere die Wärme des Kaffees und die Atmosphäre. Die einen holen einen Gutschein für ein warmes Mittagessen ab\, die anderen wollen Kiel kennenlernen\, einige möchten Musik hören und andere haben Lust\, Musik zu machen.
CLASS:PUBLIC
DTSTART:20260515T080000Z
DTEND:20260515T110000Z
DTSTAMP:20260423T063852Z
END:VEVENT

END:VCALENDAR