BEGIN:VCALENDAR
VERSION:2.0
PRODID:nkc_event TYPO3 Extension
METHOD:PUBLISH
BEGIN:VEVENT
UID:627301b97f2b33b6f73f498b10d49599
LOCATION:Jugendarbeit
SUMMARY:Fördecamp
DESCRIPTION:Der 4.7. ist der Aufbautag nur für Teamer*innen.
CLASS:PUBLIC
DTSTART:20260704T120000Z
DTEND:20260709T120600Z
DTSTAMP:20260419T162517Z
END:VEVENT

END:VCALENDAR