BEGIN:VCALENDAR
VERSION:2.0
PRODID:nkc_event TYPO3 Extension
METHOD:PUBLISH
BEGIN:VEVENT
UID:f9dd1d9e4378aec755ab592ebc29bf3b
LOCATION:Erlöserkirche Borgfelde
SUMMARY:IGS Internationaler Gospel Gottesdienst
DESCRIPTION:
CLASS:PUBLIC
DTSTART:20260510T090000Z
DTEND:20260510T100000Z
DTSTAMP:20260420T151932Z
END:VEVENT

END:VCALENDAR