BEGIN:VCALENDAR
VERSION:2.0
PRODID:nkc_event TYPO3 Extension
METHOD:PUBLISH
BEGIN:VEVENT
UID:db44c57c5331e349ba9b0547eb1cf85a
LOCATION:Kong Arrilds Hoj Park
SUMMARY:Ökumenischer Familiengodi im Kong-Arrildshoj-Park Gartenstadt/anschl. Stadtteilfest und spontan Trauungen
DESCRIPTION:
CLASS:PUBLIC
DTSTART:20260606T120000Z
DTEND:20260606T130000Z
DTSTAMP:20260424T140956Z
END:VEVENT

END:VCALENDAR