BEGIN:VCALENDAR
VERSION:2.0
PRODID:nkc_event TYPO3 Extension
METHOD:PUBLISH
BEGIN:VEVENT
UID:ed74d8577d93a2ae8499c3d93cc42642
LOCATION:Kirche Handewitt
SUMMARY:Konfirmation
DESCRIPTION:
CLASS:PUBLIC
DTSTART:20260425T110000Z
DTEND:20260425T120000Z
DTSTAMP:20260424T093932Z
END:VEVENT

END:VCALENDAR