BEGIN:VCALENDAR
VERSION:2.0
PRODID:nkc_event TYPO3 Extension
METHOD:PUBLISH
BEGIN:VEVENT
UID:ca2b223f94cb67281fd0799760964625
LOCATION:St.Laurentius-Kirche in Kosel
SUMMARY:Konfirmation Louisenlund\, Pastor Heiko van der Lip
DESCRIPTION:
CLASS:PUBLIC
DTSTART:20260509T080000Z
DTEND:20260509T090000Z
DTSTAMP:20260425T221830Z
END:VEVENT

END:VCALENDAR