BEGIN:VCALENDAR
VERSION:2.0
PRODID:nkc_event TYPO3 Extension
METHOD:PUBLISH
BEGIN:VEVENT
UID:1ee6e8905d18a7f25c3eb565d520d146
LOCATION:St. Johannis - Kulturkirche Altona
SUMMARY:Abschlusskonzert - 10. Orgel-Herbst-Winter
DESCRIPTION:Der Titularorganist der großen Orgel der Nationalen Portugiesischen Kirche S. Antonio in Rom\, Giampaolo Di Rosa\, ist nicht nur für seine brillanten Interpretationen\, sondern auch für seine fantasievollen Improvisationen bekannt. Sein Schaffen führt ihn auf alle Kontinente. Gerade veröffentlicht er eine Einspielung zum Thema „Die Vier Elemente“.
CLASS:PUBLIC
DTSTART:20260308T160000Z
DTEND:20260308T170000Z
DTSTAMP:20260423T102825Z
END:VEVENT

END:VCALENDAR