BEGIN:VCALENDAR
VERSION:2.0
PRODID:nkc_event TYPO3 Extension
METHOD:PUBLISH
BEGIN:VEVENT
UID:3222caf2164d3d5f3b62bbae95f6cb3b
LOCATION:Ev.-Luth. St. Ansgarkirche in Kiel
SUMMARY:Gottesdienst mit Gebärdensprache
DESCRIPTION:Diakonin Susanne Jordan\, Tel. +49 481 78670 40 Mobil +49 175 7029709 Susanne.jordan@seelsorge.nordkirche.de / www.gehoerlosenseelsorge-nordkirche.de
CLASS:PUBLIC
DTSTART:20260426T130000Z
DTEND:20260426T140000Z
DTSTAMP:20260423T041509Z
END:VEVENT

END:VCALENDAR