BEGIN:VCALENDAR
VERSION:2.0
PRODID:nkc_event TYPO3 Extension
METHOD:PUBLISH
BEGIN:VEVENT
UID:02dcb0ef7cbf5f0ca743d2d8c51e1bf6
LOCATION:Altes Pastorat
SUMMARY:Sankt Nikolai Flensburg":" Jugendtreff im Gemeindehaus
DESCRIPTION:
CLASS:PUBLIC
DTSTART:20260514T163000Z
DTEND:20260514T173000Z
DTSTAMP:20260422T123548Z
END:VEVENT

END:VCALENDAR