BEGIN:VCALENDAR
VERSION:2.0
PRODID:nkc_event TYPO3 Extension
METHOD:PUBLISH
BEGIN:VEVENT
UID:67bed0ecbf6b1c7fc7021d4f27181845
LOCATION:Christophorushaus
SUMMARY:Abendmusik im Christophorushaus":" Ein japanischer Abend
DESCRIPTION:Die Autorin Anna Katharina Sanner (DQUOTEWie man in Japan Ninja wirdDQUOTE - Eine wahre Geschichte\, 2022) wird Texte lesen.Volkslieder\, Kunstlieder\, J-Pop\, Filmmusik und Schlager aus Japan werden zu hören sein.Willkommen\, zu einem japanischen Abend im Christophorushaus - Unsere Abendmusik SpezialFreitag\, 24. April 2026 um 19 Uhr imChristophorushaus\, Anna-Susanna-Stieg 10Der Eintritt ist frei.
CLASS:PUBLIC
DTSTART:20260424T170000Z
DTEND:20260424T180000Z
DTSTAMP:20260419T152452Z
END:VEVENT

END:VCALENDAR