BEGIN:VCALENDAR
VERSION:2.0
PRODID:nkc_event TYPO3 Extension
METHOD:PUBLISH
BEGIN:VEVENT
UID:a29de929dd96c873e4d503ed94be73f9
LOCATION:St. Andreas Kirche Haddeby
SUMMARY:Segnungsgottesdienst
DESCRIPTION:
CLASS:PUBLIC
DTSTART:20260614T080000Z
DTEND:20260614T090000Z
DTSTAMP:20260422T014653Z
END:VEVENT

END:VCALENDAR