BEGIN:VCALENDAR
VERSION:2.0
PRODID:nkc_event TYPO3 Extension
METHOD:PUBLISH
BEGIN:VEVENT
UID:cd1f1694969290dee4cb094c19789dbe
LOCATION:Domkloster Ratzeburg
SUMMARY:Herz Qi Gong-Wochenende
DESCRIPTION:Der natürliche Atem und die Lebenskraft kommen in Fluss. Aktivierung des Herz-Kreislauf- und des Immunsystems. Die Bewegungen wirken positiv auf das Gemüt und sind beruhigend und belebend zugleich.Morgen- und Abendmeditation mit Sitzen in Stille\, Austausch im Gespräch\, kurze Vorträge.Für Anfänger und Fortgeschrittene. Qi Gong ist Lebenspflege für jedes Alter.Bitte bringen Sie bequeme und warme Kleidung für drinnen und draußen mit.Zu jeder Jahreszeit üben wir einen Teil der Qi Gong-Zeiten im Garten.Diese Kurse sind zertifiziert von den Krankenkassen und können bezuschusst werden.Beginn":" Freitag\, 21.08.2026\, 15.00 Uhr mit dem KaffeetrinkenEnde":" Sonntag\, 23.08.2026\, 13.00 Uhr mit dem MittagessenBeitrag":" ca. 379\,- € inkl. Übernachtung\, EZ im Domkloster\, Vollverpflegung mit 4 Mahlzeiten am Tag\, SeminarbeitragBei Stornierung ab 7 Wochen vor dem Termin berechnet das Domkloster eine gestaffelte Stornogebühr. Die genauen Beträge erhalten Sie mit der Buchungsbestätigung!
CLASS:PUBLIC
DTSTART:20260821T130000Z
DTEND:20260823T110000Z
DTSTAMP:20260422T032811Z
END:VEVENT

END:VCALENDAR