BEGIN:VCALENDAR
VERSION:2.0
PRODID:nkc_event TYPO3 Extension
METHOD:PUBLISH
BEGIN:VEVENT
UID:a840607c98a33466e0f7123cec554729
LOCATION:St. Marien
SUMMARY:Orgelpunkt 12
DESCRIPTION:Johannes Unger stellt die Totentanz-Orgel vor und spielt 30 Minuten Orgelmusik aus verschiedenen Jahrhunderten. 
CLASS:PUBLIC
DTSTART:20260527T100000Z
DTEND:20260527T110000Z
DTSTAMP:20260425T013905Z
END:VEVENT

END:VCALENDAR