BEGIN:VCALENDAR
VERSION:2.0
PRODID:nkc_event TYPO3 Extension
METHOD:PUBLISH
BEGIN:VEVENT
UID:67eead4a80762b9126490f2e424f9602
LOCATION:St. Jakobi
SUMMARY:Pilgertreff
DESCRIPTION:Die Jakobus-Darstellungen in der Pilgerkirche zu Lübeck mit kurzer Pilgerandacht. 
CLASS:PUBLIC
DTSTART:20260430T163000Z
DTEND:20260430T173000Z
DTSTAMP:20260424T200240Z
END:VEVENT

END:VCALENDAR