BEGIN:VCALENDAR
VERSION:2.0
PRODID:nkc_event TYPO3 Extension
METHOD:PUBLISH
BEGIN:VEVENT
UID:8e8ece5819a8ca7fd0b1b8ad6b1168bb
LOCATION:Ev.-Luth. Kirchengemeinde St. Gertrud Hamburg
SUMMARY:EVENSONG - eine Anglikanische Chorandacht
DESCRIPTION:
CLASS:PUBLIC
DTSTART:20260426T150000Z
DTEND:20260426T160000Z
DTSTAMP:20260425T190018Z
END:VEVENT

END:VCALENDAR