BEGIN:VCALENDAR
VERSION:2.0
PRODID:nkc_event TYPO3 Extension
METHOD:PUBLISH
BEGIN:VEVENT
UID:871474edcfe5d36eeb50ffcccb853b9f
LOCATION:Ev. Kirchengemeinde Brandshagen
SUMMARY:Seminar für fortgeschrittene Bläser
DESCRIPTION:Info und Anmeldung":" www.posaunenwerk-emvau.de
CLASS:PUBLIC
DTSTART:20261128T090000Z
DTEND:20261130T190000Z
DTSTAMP:20260422T032406Z
END:VEVENT

END:VCALENDAR