BEGIN:VCALENDAR
VERSION:2.0
PRODID:nkc_event TYPO3 Extension
METHOD:PUBLISH
BEGIN:VEVENT
UID:d8d25edd728d48e40f3fdf4a5fd5ef12
LOCATION:Marienkirche Esgrus
SUMMARY:Festgottesdienst zur Konfirmation
DESCRIPTION:
CLASS:PUBLIC
DTSTART:20260502T090000Z
DTEND:20260502T100000Z
DTSTAMP:20260424T104734Z
END:VEVENT

END:VCALENDAR