BEGIN:VCALENDAR
VERSION:2.0
PRODID:nkc_event TYPO3 Extension
METHOD:PUBLISH
BEGIN:VEVENT
UID:bea994890fd1f1d472b4a73e58831f17
LOCATION:Offene Kirche St. Nikolai in Kiel
SUMMARY:Gottesdienst - 5. Sonntag nach Trinitatis
DESCRIPTION:Unter dem Feigenbaum – die Vision vom sicheren Wohnenanschließend":" FestmahlPredigt":" Innenministerin Magdalena Finke\, Jo Tein (HEMPELS e.V.)\,Liturgie":" Pastorin Maren SchmidtMusik":" Üze Oldenburg\; „Einfach singen – ganz Mensch“\, Leitung":" Jessika GraafVolkmar Zehner\, OrgelInfo-Text zum Aufklappen":"„Alle Menschen werden sicher wohnen…“ Das ist die Vison des Propheten Micha. Für viele Menschen sieht die Realität anders aus. Sie leben auf der Straße\, in Notunterkünften oder stehen in Gefahr\, ihre Wohnung zu verlieren. Anlässlich der Fertigstellung der neuen Wohneinheiten von „HEMPELS hilft wohnen“ werden Innenministerin Magdalena Finke und Jo Tein (HEMPELS e.V.) über diese Vision und über unsere Handlungsmöglichkeiten predigen.Im Anschluss an den Gottesdienst sind alle herzlich eingeladen\, gemeinsam zu essen\, zu feiern und miteinander ins Gespräch zu kommen.
CLASS:PUBLIC
DTSTART:20260705T080000Z
DTEND:20260705T090000Z
DTSTAMP:20260419T183414Z
END:VEVENT

END:VCALENDAR