BEGIN:VCALENDAR
VERSION:2.0
PRODID:nkc_event TYPO3 Extension
METHOD:PUBLISH
BEGIN:VEVENT
UID:cd8e04dfda20ec07a64c43af4ed43550
LOCATION:Gemeindehaus II
SUMMARY:ABENTEUERLAND
DESCRIPTION:
CLASS:PUBLIC
DTSTART:20260918T133000Z
DTEND:20260918T143000Z
DTSTAMP:20260425T112140Z
END:VEVENT

END:VCALENDAR