BEGIN:VCALENDAR
VERSION:2.0
PRODID:nkc_event TYPO3 Extension
METHOD:PUBLISH
BEGIN:VEVENT
UID:23521530fa564130056af81066427ac3
LOCATION:Jugendarbeit
SUMMARY:Juleica-Lehrgang für 18+
DESCRIPTION:Weitere Infos folgen.
CLASS:PUBLIC
DTSTART:20260908T160000Z
DTEND:20260908T170000Z
DTSTAMP:20260419T162438Z
END:VEVENT

END:VCALENDAR