BEGIN:VCALENDAR
VERSION:2.0
PRODID:nkc_event TYPO3 Extension
METHOD:PUBLISH
BEGIN:VEVENT
UID:66615fc228799918ba23cddaa17cb857
LOCATION:Christus-Kirche Wahlstedt
SUMMARY:Gottesdienst\, Pastor Kristoffersen
DESCRIPTION:
CLASS:PUBLIC
DTSTART:20260426T090000Z
DTEND:20260426T100000Z
DTSTAMP:20260423T141821Z
END:VEVENT

END:VCALENDAR