BEGIN:VCALENDAR
VERSION:2.0
PRODID:nkc_event TYPO3 Extension
METHOD:PUBLISH
BEGIN:VEVENT
UID:b20242dd80331b7790e05f74c92ca064
LOCATION:Friedenskirche
SUMMARY:Verabschiedungsgottesdienst Britta Nöbbe
DESCRIPTION:
CLASS:PUBLIC
DTSTART:20260510T080000Z
DTEND:20260510T090000Z
DTSTAMP:20260421T193505Z
END:VEVENT

END:VCALENDAR