BEGIN:VCALENDAR
VERSION:2.0
PRODID:nkc_event TYPO3 Extension
METHOD:PUBLISH
BEGIN:VEVENT
UID:1365861f4d56ac8e234e4e63d1e3e46e
LOCATION:Kirche Rickling
SUMMARY:Konfirmationsgottesdienst
DESCRIPTION:Einsegnung des aktuellen Konfi-Jahrgangs
CLASS:PUBLIC
DTSTART:20260607T083000Z
DTEND:20260607T093000Z
DTSTAMP:20260423T160749Z
END:VEVENT

END:VCALENDAR