BEGIN:VCALENDAR
VERSION:2.0
PRODID:nkc_event TYPO3 Extension
METHOD:PUBLISH
BEGIN:VEVENT
UID:58e94162bbe724a5669557f896a628f6
LOCATION:St.-Laurentius-Kirche Schönberg
SUMMARY:40. Schönberger Musiksommer - 276. Todestag Johann Sebastian Bachs
DESCRIPTION:„Wer suchet\, der findet!“\, Johann Sebastian Bach bot mit seinem „Musikalischen Opfer“ dem preußischen König Ehre\, forderte ihn jedoch gleichzeitig heraus. Denn einfach war es nicht\, was er ihm an Musik unterbreitete. Immerhin war Friedrich ein komponierender Flötist\, gute Leute gab es in seinem Umfeld":" Johann Joachim Quantz (1697-1773) und Johann Sebastians Sohn Carl Philipp Emanuel (1714-1788)\, der letztlich eine steilere Karriere hinlegte als einst sein Vater. Ob sie dem König geholfen haben beim Entschlüsseln?An Vater Bachs Todestag bringt ein Ensemble des Schönberger Musiksommers eines seiner Spätwerke in einer farbigen und abwechslungsreichen Instrumentierung zu Gehör. Da aber mit Bachs Todestag nicht die Musik gestorben war\, zeigen wir auch Linien auf\, die bis ins Heute reichen. Denn um Bachs Musik kam kaum jemand mehr herum. Kaum vorstellbar\, den Hintergrund zu vergessen\, wenn man eine Solosuite für Cello komponiert\, wie Benjamin Britten\, oder mit der Kanon-Technik experimentiert\, wie Edgar Meyer\, beides tiefe Kenner der Bach‘schen Tonsprache. So beginnt das Programm erst einmal im Heute\, denn Musik ist immer unmittelbar.
CLASS:PUBLIC
DTSTART:20260728T180000Z
DTEND:20260728T190000Z
DTSTAMP:20260419T144343Z
END:VEVENT

END:VCALENDAR