BEGIN:VCALENDAR
VERSION:2.0
PRODID:nkc_event TYPO3 Extension
METHOD:PUBLISH
BEGIN:VEVENT
UID:c559011fbc8acc28f6438fb2d304e4f4
LOCATION:Verheißungskirche
SUMMARY:Traun wir uns den Wolken nach
DESCRIPTION:
CLASS:PUBLIC
DTSTART:20250621T130000Z
DTEND:20250621T140000Z
DTSTAMP:20260419T131837Z
END:VEVENT

END:VCALENDAR