BEGIN:VCALENDAR
VERSION:2.0
PRODID:nkc_event TYPO3 Extension
METHOD:PUBLISH
BEGIN:VEVENT
UID:12589960173e4713463ce0a76ffa3b03
LOCATION:Friedrich-Wilhelm-Krummacherhaus
SUMMARY:Kleine Kräuterkunde und Herstellung eigenes Kräuteröl
DESCRIPTION:Gemeinsam werden wir unser Wissen über Kräuter\, Pflanzen\, Früchte austauschen\, werden etwas über die heilende aber auch giftige Wirksamkeit einzelner Exemplare der Natur hören und im Anschluss unser eigenes Kräuteröl herstellen.Die Teilnehmerzahl ist auf 20 begrenzt.
CLASS:PUBLIC
DTSTART:20260511T153000Z
DTEND:20260511T163000Z
DTSTAMP:20260423T145353Z
END:VEVENT

END:VCALENDAR