BEGIN:VCALENDAR
VERSION:2.0
PRODID:nkc_event TYPO3 Extension
METHOD:PUBLISH
BEGIN:VEVENT
UID:8f4b09b1b68687f0fb95a30e0632859f
LOCATION:Ev.-luth. Kirchengemeinde St. Markus-Hoheluft
SUMMARY:Jour fixe":" Thema noch offen
DESCRIPTION:
CLASS:PUBLIC
DTSTART:20260510T160000Z
DTEND:20260510T170000Z
DTSTAMP:20260425T144000Z
END:VEVENT

END:VCALENDAR