BEGIN:VCALENDAR
VERSION:2.0
PRODID:nkc_event TYPO3 Extension
METHOD:PUBLISH
BEGIN:VEVENT
UID:a0e5f54c7a4203e1fb280b62d293a71f
LOCATION:St. Marien
SUMMARY:360° Lübeck - Turm- und Gewölbeführung in Marien
DESCRIPTION:Wir werden Türme und Gewölbe kennenlernen\, 800 Jahre Stadtgeschichte direkt an der Kirche erleben und uns mit dem fantastischsten 360° Blick über die Stadt belohnen!Die Karten erhältst Du online unter https":"//tickets.st-marien-luebeck.de\, direkt bei uns in der Kirche am Kiosk oder an allen bekannten Vorverkaufsstellen von Lübeck-Ticket (z.B. an der Tourismus-Information am Holstentor oder im Digitalstore der Lübecker Nachrichten in der Königstraße).Restkarten gibt es auch auf Nachfrage bei der Person\, die diese Führung übernimmt.Mindestalter":" Grundschulalter. Bitte beachte unsere Sicherheitshinweise. 
CLASS:PUBLIC
DTSTART:20261024T130000Z
DTEND:20261024T153000Z
DTSTAMP:20260420T091508Z
END:VEVENT

END:VCALENDAR