BEGIN:VCALENDAR
VERSION:2.0
PRODID:nkc_event TYPO3 Extension
METHOD:PUBLISH
BEGIN:VEVENT
UID:4c0b78314ca6c89bb593fc20aa54c14d
LOCATION:Vierer Berg
SUMMARY:Begrüßung der Teamer – Godi auf dem „Vierer Berg“ in Bornhöved mit den P`s U.Egener\, U. Jenett\, R. Jenett\, C.-H. Linse und Diakon J. Kröning
DESCRIPTION:
CLASS:PUBLIC
DTSTART:20260525T080000Z
DTEND:20260525T090000Z
DTSTAMP:20260423T172504Z
END:VEVENT

END:VCALENDAR