BEGIN:VCALENDAR
VERSION:2.0
PRODID:nkc_event TYPO3 Extension
METHOD:PUBLISH
BEGIN:VEVENT
UID:8be4e1165255ebba0cc0a447b374f560
LOCATION:Altes Pastorat
SUMMARY:Sankt Nikolai Flensburg":" Jugendtreff im Gemeindehaus
DESCRIPTION:
CLASS:PUBLIC
DTSTART:20260423T163000Z
DTEND:20260423T173000Z
DTSTAMP:20260422T123404Z
END:VEVENT

END:VCALENDAR