BEGIN:VCALENDAR
VERSION:2.0
PRODID:nkc_event TYPO3 Extension
METHOD:PUBLISH
BEGIN:VEVENT
UID:71e7b503a070d83266c3ab9cfff38c96
LOCATION:Gemeindehaus II
SUMMARY:ABENTEUERLAND
DESCRIPTION:
CLASS:PUBLIC
DTSTART:20260529T133000Z
DTEND:20260529T143000Z
DTSTAMP:20260425T112804Z
END:VEVENT

END:VCALENDAR