BEGIN:VCALENDAR
VERSION:2.0
PRODID:nkc_event TYPO3 Extension
METHOD:PUBLISH
BEGIN:VEVENT
UID:af788af9d635cdbf0ebfef47cdea7a76
LOCATION:Kirche St. Johannis zu Hamburg-Eppendorf
SUMMARY:Evangelische Messe
DESCRIPTION:Christi Himmelfahrt\, Predigt":" Johannes 17\,20–26\, Kollekte":" Life Challenge Suchthilfe
CLASS:PUBLIC
DTSTART:20260514T080000Z
DTEND:20260514T093000Z
DTSTAMP:20260422T121252Z
END:VEVENT

END:VCALENDAR