BEGIN:VCALENDAR
VERSION:2.0
PRODID:nkc_event TYPO3 Extension
METHOD:PUBLISH
BEGIN:VEVENT
UID:e8b79c31322501c1cc4cd73755dfe8ae
LOCATION:St. Martin-Kirche Nortorf
SUMMARY:Gospelkonzert DQUOTECome Wanna SingDQUOTE
DESCRIPTION:
CLASS:PUBLIC
DTSTART:20260621T160000Z
DTEND:20260621T170000Z
DTSTAMP:20260422T105858Z
END:VEVENT

END:VCALENDAR