BEGIN:VCALENDAR
VERSION:2.0
PRODID:nkc_event TYPO3 Extension
METHOD:PUBLISH
BEGIN:VEVENT
UID:2a5c13f541db894ec7b4d1dd31af1248
LOCATION:Kirche St. Johannis zu Hamburg-Eppendorf
SUMMARY:When birds do sing\, hey ding a ding ding
DESCRIPTION:
CLASS:PUBLIC
DTSTART:20260530T160000Z
DTEND:20260530T170000Z
DTSTAMP:20260422T120930Z
END:VEVENT

END:VCALENDAR