BEGIN:VCALENDAR
VERSION:2.0
PRODID:nkc_event TYPO3 Extension
METHOD:PUBLISH
BEGIN:VEVENT
UID:65d7d82d7b02cf0b3cbaed219c50eacc
LOCATION:Friedenskirche Flensburg Weiche
SUMMARY:Godi/Pn. Baran
DESCRIPTION:
CLASS:PUBLIC
DTSTART:20260510T080000Z
DTEND:20260510T090000Z
DTSTAMP:20260424T140903Z
END:VEVENT

END:VCALENDAR