BEGIN:VCALENDAR
VERSION:2.0
PRODID:nkc_event TYPO3 Extension
METHOD:PUBLISH
BEGIN:VEVENT
UID:ad90f53c81e6485b91651d6dc1536a5b
LOCATION:https://www.youtube.com/channel/UCBo-WkPXb_39N1EjFLh9n1A
SUMMARY:Kindergottesdienst
DESCRIPTION:Herzliche Einladung zum Kindergottesdienst mit Kinder-Lobpreis und kreativen und spielerischen Aktionen
CLASS:PUBLIC
DTSTART:20260607T080000Z
DTEND:20260607T090000Z
DTSTAMP:20260425T210321Z
END:VEVENT

END:VCALENDAR