BEGIN:VCALENDAR
VERSION:2.0
PRODID:nkc_event TYPO3 Extension
METHOD:PUBLISH
BEGIN:VEVENT
UID:2fad9eb80c2bbd7aaed5c2d288138835
LOCATION:Ev.-luth. Kirchengemeinde St. Johannis zu Neuengamme
SUMMARY:Johann Sebastian Bach":" Weihnachtsoratorium I-III
DESCRIPTION:
CLASS:PUBLIC
DTSTART:20251219T180000Z
DTEND:20251219T190000Z
DTSTAMP:20260419T134901Z
END:VEVENT

END:VCALENDAR