BEGIN:VCALENDAR
VERSION:2.0
PRODID:nkc_event TYPO3 Extension
METHOD:PUBLISH
BEGIN:VEVENT
UID:95a2d3d76514e75808ed7a0dc049d891
LOCATION:St. Birgitta-Thomas-Kirche Kiel-Mettenhof
SUMMARY:Orgelkonzert DQUOTEorgelFarbigDQUOTE
DESCRIPTION:Reinfried Barnett spielt im Rahmen der 16. Altholsteiner Orgelkonzerte Werke von Nicolaus Bruhns\, Johann Sebastian Bach\, Wolfgang Amadeus Mozart und Franz Liszt.Der Eintritt ist frei\, im Anschluss Empfang im Foyer des Birgitta-Thomas-Hauses.
CLASS:PUBLIC
DTSTART:20260514T150000Z
DTEND:20260514T160000Z
DTSTAMP:20260425T120341Z
END:VEVENT

END:VCALENDAR