BEGIN:VCALENDAR
VERSION:2.0
PRODID:nkc_event TYPO3 Extension
METHOD:PUBLISH
BEGIN:VEVENT
UID:65c2af5c116f96f7b96bdf9409ccf291
LOCATION:Kirche St. Johannis zu Hamburg-Eppendorf
SUMMARY:Evangelische Messe
DESCRIPTION:5. Sonntag nach Ostern Rogate\, Predigt":" Matthäus 6\,5–15\, Kollekte":" Müttertelefon und „Rock + Rat“
CLASS:PUBLIC
DTSTART:20260510T080000Z
DTEND:20260510T093000Z
DTSTAMP:20260422T121311Z
END:VEVENT

END:VCALENDAR